Workbook
Name Comprobantes: '[1]Tabla de Comprobantes'!$A$3:$A$65
Name PC: '[1]Tabla de Comprobantes'!$E$3:$E$14
Name Porcentaje_Gráfico: OFFSET('Cálculos Auxiliares'!$D$16,1,,COUNTA('Cálculos Auxiliares'!$D$17:$D$53))
Name Vendedor: Ventas_Objetivo[VENDEDOR]
Name Vendedor_Grafico: OFFSET('Cálculos Auxiliares'!$C$16,1,,COUNTA('Cálculos Auxiliares'!$C$17:$C$46))

Sheet Datos
F2: Rellena los valores faltantes de los vendedores por cada mes
B4: Escriba cada vendedor cuánto debe vender por mes
B5: VENTAS - OBJETIVO
B6: # | C6: VENDEDOR | D6: ENE | E6: FEB | F6: MAR | G6: ABR | H6: MAY | I6: JUN | J6: JUL | K6: AGO | L6: SEP | M6: OCT | N6: NOV | O6: DIC | P6: TOTAL
B7: 1 | C7: Carolina | D7: 1729 | E7: 1501 | F7: 1850 | G7: 1285 | H7: 1085 | I7: 1636 | J7: 1516 | K7: 1411 | L7: 1580 | M7: 1976 | N7: 1318 | O7: 1644 | P7: =SUM(Ventas_Objetivo[[#This Row],[ENE]:[DIC]]) -> 18531
B8: 2 | C8: Francisco | D8: 1845 | E8: 1568 | F8: 1416 | G8: 1252 | H8: 1181 | I8: 1700 | J8: 1054 | K8: 1445 | L8: 1254 | M8: 1706 | N8: 1366 | O8: 1086 | P8: =SUM(Ventas_Objetivo[[#This Row],[ENE]:[DIC]]) -> 16873
B9: 3 | C9: Clara | D9: 1701 | E9: 1658 | F9: 1372 | G9: 1019 | H9: 1673 | I9: 1687 | J9: 1095 | K9: 1712 | L9: 1031 | M9: 1263 | N9: 1783 | O9: 1617 | P9: =SUM(Ventas_Objetivo[[#This Row],[ENE]:[DIC]]) -> 17611
B10: 4 | C10: Rodolfo | P10: =SUM(Ventas_Objetivo[[#This Row],[ENE]:[DIC]]) -> 0
B11: 5 | C11: Juan Carlos | P11: =SUM(Ventas_Objetivo[[#This Row],[ENE]:[DIC]]) -> 0
B12: 6 | C12: María | P12: =SUM(Ventas_Objetivo[[#This Row],[ENE]:[DIC]]) -> 0
B13: 7 | C13: Carmen | P13: =SUM(Ventas_Objetivo[[#This Row],[ENE]:[DIC]]) -> 0
B14: 8 | C14: Mirtha | P14: =SUM(Ventas_Objetivo[[#This Row],[ENE]:[DIC]]) -> 0
B20: Especifique sólo las ventas reales de cada mes
B21: VENTAS - REALES
B22: # | C22: VENDEDOR | D22: ENE | E22: FEB | F22: MAR | G22: ABR | H22: MAY | I22: JUN | J22: JUL | K22: AGO | L22: SEP | M22: OCT | N22: NOV | O22: DIC | P22: TOTAL
B23: 1 | C23: =IF(C7="","",C7) -> Carolina | D23: 1810 | E23: 2756 | F23: 2945 | G23: 2265 | H23: 2458 | I23: 2063 | J23: 2777 | K23: 2630 | L23: 1780 | M23: 1878 | N23: 1936 | O23: 2830 | P23: =SUM(Ventas_Reales[[#This Row],[ENE]:[DIC]]) -> 28128
B24: 2 | C24: =IF(C8="","",C8) -> Francisco | D24: 2155 | E24: 2156 | F24: 1452 | G24: 1168 | H24: 2396 | I24: 1356 | J24: 1434 | K24: 2471 | L24: 2882 | M24: 1457 | N24: 1808 | O24: 2489 | P24: =SUM(Ventas_Reales[[#This Row],[ENE]:[DIC]]) -> 23224
B25: 3 | C25: =IF(C9="","",C9) -> Clara | D25: 2185 | E25: 1015 | F25: 2309 | G25: 1734 | H25: 2028 | I25: 1037 | J25: 1908 | K25: 1932 | L25: 2310 | M25: 2202 | N25: 2043 | O25: 1740 | P25: =SUM(Ventas_Reales[[#This Row],[ENE]:[DIC]]) -> 22443
B26: 4 | C26: =IF(C10="","",C10) -> Rodolfo | P26: =SUM(Ventas_Reales[[#This Row],[ENE]:[DIC]]) -> 0
B27: 5 | C27: =IF(C11="","",C11) -> Juan Carlos | P27: =SUM(Ventas_Reales[[#This Row],[ENE]:[DIC]]) -> 0
B28: 6 | C28: =IF(C12="","",C12) -> María | P28: =SUM(Ventas_Reales[[#This Row],[ENE]:[DIC]]) -> 0
B29: 7 | C29: =IF(C13="","",C13) -> Carmen | P29: =SUM(Ventas_Reales[[#This Row],[ENE]:[DIC]]) -> 0
B30: 8 | C30: =IF(C14="","",C14) -> Mirtha | P30: =SUM(Ventas_Reales[[#This Row],[ENE]:[DIC]]) -> 0

Sheet Reporte
K2: Realiza el analisis del grafico minimo a tres vendedores
B6: REPORTE DE VENTAS VENDEDOR: | K6: Francisco | O6: Elija el vendedor a visualizar
B8: ="TOTAL ANUAL "&UPPER(K6) -> TOTAL ANUAL FRANCISCO | G8: =UPPER(K6)&" - DESEMPEÑO MENSUAL" -> FRANCISCO - DESEMPEÑO MENSUAL
Q9: Vendedor 1
C10: Objetivo | D10: =VLOOKUP(K6,Datos!$C$6:$P$14,14,FALSE) -> 16873
C14: Real | D14: =VLOOKUP(K6,Datos!C22:P30,14,FALSE) -> 23224
C17: % DE REALIZACIÓN
C19: =D14/D10 -> 1.3764002
B26: REPORTE DEL EQUIPO DE VENTAS | G26: DESEMPEÑO MENSUAL DEL EQUIPO
Q27: Vendedor 2
C28: Objetivo | D28: =SUM(Datos!P7:P14) -> 53015
C32: Real | D32: =SUM(Datos!P23:P30) -> 73795
C35: % DE REALIZACIÓN
C37: =D32/D28 -> 1.3919645
Q44: Vendedor 3
Q62: Analisis general de las ventas en todo el equipo de trabajo

Sheet Cálculos Auxiliares
A1: cálculos auxiliares
B2: 2 | C2: 3 | D2: 4 | E2: 5 | F2: 6 | G2: 7 | H2: 8 | I2: 9 | J2: 10 | K2: 11 | L2: 12 | M2: 13
A3: =Reporte!K6 -> Francisco | B3: ENE | C3: FEB | D3: MAR | E3: ABR | F3: MAY | G3: JUN | H3: JUL | I3: AGO | J3: SEP | K3: OCT | L3: NOV | M3: DIC
A4: VENTAS - OBJETIVO | B4: =VLOOKUP($A$3,Ventas_Objetivo[[VENDEDOR]:[DIC]],B2,0) -> 1845 | C4: =VLOOKUP($A$3,Ventas_Objetivo[[VENDEDOR]:[DIC]],C2,0) -> 1568 | D4: =VLOOKUP($A$3,Ventas_Objetivo[[VENDEDOR]:[DIC]],D2,0) -> 1416 | E4: =VLOOKUP($A$3,Ventas_Objetivo[[VENDEDOR]:[DIC]],E2,0) -> 1252 | F4: =VLOOKUP($A$3,Ventas_Objetivo[[VENDEDOR]:[DIC]],F2,0) -> 1181 | G4: =VLOOKUP($A$3,Ventas_Objetivo[[VENDEDOR]:[DIC]],G2,0) -> 1700 | H4: =VLOOKUP($A$3,Ventas_Objetivo[[VENDEDOR]:[DIC]],H2,0) -> 1054 | I4: =VLOOKUP($A$3,Ventas_Objetivo[[VENDEDOR]:[DIC]],I2,0) -> 1445 | ... M4: =VLOOKUP($A$3,Ventas_Objetivo[[VENDEDOR]:[DIC]],M2,0) -> 1086
A5: VENTAS - REALES | B5: =VLOOKUP($A$3,Ventas_Reales[[VENDEDOR]:[DIC]],B2,0) -> 2155 | C5: =VLOOKUP($A$3,Ventas_Reales[[VENDEDOR]:[DIC]],C2,0) -> 2156 | D5: =VLOOKUP($A$3,Ventas_Reales[[VENDEDOR]:[DIC]],D2,0) -> 1452 | E5: =VLOOKUP($A$3,Ventas_Reales[[VENDEDOR]:[DIC]],E2,0) -> 1168 | F5: =VLOOKUP($A$3,Ventas_Reales[[VENDEDOR]:[DIC]],F2,0) -> 2396 | G5: =VLOOKUP($A$3,Ventas_Reales[[VENDEDOR]:[DIC]],G2,0) -> 1356 | H5: =VLOOKUP($A$3,Ventas_Reales[[VENDEDOR]:[DIC]],H2,0) -> 1434 | I5: =VLOOKUP($A$3,Ventas_Reales[[VENDEDOR]:[DIC]],I2,0) -> 2471 | ... M5: =VLOOKUP($A$3,Ventas_Reales[[VENDEDOR]:[DIC]],M2,0) -> 2489
B8: 2
A9: TOTAL | B9: ENE | C9: FEB | D9: MAR | E9: ABR | F9: MAY | G9: JUN | H9: JUL | I9: AGO | J9: SEP | K9: OCT | L9: NOV | M9: DIC
A10: VENTAS - OBJETIVO | B10: =SUM(Ventas_Objetivo[[#All],[ENE]]) -> 5275 | C10: =SUM(Ventas_Objetivo[[#All],[FEB]]) -> 4727 | D10: =SUM(Ventas_Objetivo[[#All],[MAR]]) -> 4638 | E10: =SUM(Ventas_Objetivo[[#All],[ABR]]) -> 3556 | F10: =SUM(Ventas_Objetivo[[#All],[MAY]]) -> 3939 | G10: =SUM(Ventas_Objetivo[[#All],[JUN]]) -> 5023 | H10: =SUM(Ventas_Objetivo[[#All],[JUL]]) -> 3665 | I10: =SUM(Ventas_Objetivo[[#All],[AGO]]) -> 4568 | J10: =SUM(Ventas_Objetivo[[#All],[SEP]]) -> 3865 | K10: =SUM(Ventas_Objetivo[[#All],[OCT]]) -> 4945 | L10: =SUM(Ventas_Objetivo[[#All],[NOV]]) -> 4467 | M10: =SUM(Ventas_Objetivo[[#All],[DIC]]) -> 4347
A11: VENTAS - REALES | B11: =SUM(Ventas_Reales[ENE]) -> 6150 | C11: =SUM(Ventas_Reales[FEB]) -> 5927 | D11: =SUM(Ventas_Reales[MAR]) -> 6706 | E11: =SUM(Ventas_Reales[ABR]) -> 5167 | F11: =SUM(Ventas_Reales[MAY]) -> 6882 | G11: =SUM(Ventas_Reales[JUN]) -> 4456 | H11: =SUM(Ventas_Reales[JUL]) -> 6119 | I11: =SUM(Ventas_Reales[AGO]) -> 7033 | J11: =SUM(Ventas_Reales[SEP]) -> 6972 | K11: =SUM(Ventas_Reales[OCT]) -> 5537 | L11: =SUM(Ventas_Reales[NOV]) -> 5787 | M11: =SUM(Ventas_Reales[DIC]) -> 7059
B16: # | C16: Vendedor_Grafico | D16: Porcentaje_Gráfico
B17: 1 | C17: =Datos!C23 -> Carolina | D17: =Datos!P23/SUM(Ventas_Reales[TOTAL]) -> 0.38116404
B18: 2 | C18: =Datos!C24 -> Francisco | D18: =Datos!P24/SUM(Ventas_Reales[TOTAL]) -> 0.31470967
B19: 3 | C19: =Datos!C25 -> Clara | D19: =Datos!P25/SUM(Ventas_Reales[TOTAL]) -> 0.3041263
B20: 4 | C20: =Datos!C26 -> Rodolfo | D20: =Datos!P26/SUM(Ventas_Reales[TOTAL]) -> 0
B21: 5 | C21: =Datos!C27 -> Juan Carlos | D21: =Datos!P27/SUM(Ventas_Reales[TOTAL]) -> 0
B22: 6 | C22: =Datos!C28 -> María | D22: =Datos!P28/SUM(Ventas_Reales[TOTAL]) -> 0
B23: 7 | C23: =Datos!C29 -> Carmen | D23: =Datos!P29/SUM(Ventas_Reales[TOTAL]) -> 0
B24: 8 | C24: =Datos!C30 -> Mirtha | D24: =Datos!P30/SUM(Ventas_Reales[TOTAL]) -> 0
B25: 9 | C25: =Datos!#REF! -> #REF! | D25: =Datos!#REF!/SUM(Ventas_Reales[TOTAL]) -> #REF!
B26: 10 | C26: =Datos!#REF! -> #REF! | D26: =Datos!#REF!/SUM(Ventas_Reales[TOTAL]) -> #REF!
B27: 11 | C27: =Datos!#REF! -> #REF! | D27: =Datos!#REF!/SUM(Ventas_Reales[TOTAL]) -> #REF!
B28: 12 | C28: =Datos!#REF! -> #REF! | D28: =Datos!#REF!/SUM(Ventas_Reales[TOTAL]) -> #REF!
B29: 13 | C29: =Datos!#REF! -> #REF! | D29: =Datos!#REF!/SUM(Ventas_Reales[TOTAL]) -> #REF!
B30: 14 | C30: =Datos!#REF! -> #REF! | D30: =Datos!#REF!/SUM(Ventas_Reales[TOTAL]) -> #REF!
B31: 15 | C31: =Datos!#REF! -> #REF! | D31: =Datos!#REF!/SUM(Ventas_Reales[TOTAL]) -> #REF!
B32: 16 | C32: =Datos!C31 -> 0 | D32: =Datos!P31/SUM(Ventas_Reales[TOTAL]) -> 0
B33: 17 | C33: =Datos!C32 -> 0 | D33: =Datos!P32/SUM(Ventas_Reales[TOTAL]) -> 0
B34: 18 | C34: =Datos!C33 -> 0 | D34: =Datos!P33/SUM(Ventas_Reales[TOTAL]) -> 0
B35: 19 | C35: =Datos!C34 -> 0 | D35: =Datos!P34/SUM(Ventas_Reales[TOTAL]) -> 0
B36: 20 | C36: =Datos!C35 -> 0 | D36: =Datos!P35/SUM(Ventas_Reales[TOTAL]) -> 0
B37: 21 | C37: =Datos!C36 -> 0 | D37: =Datos!P36/SUM(Ventas_Reales[TOTAL]) -> 0
B38: 22 | C38: =Datos!C37 -> 0 | D38: =Datos!P37/SUM(Ventas_Reales[TOTAL]) -> 0
B39: 23 | C39: =Datos!C38 -> 0 | D39: =Datos!P38/SUM(Ventas_Reales[TOTAL]) -> 0
B40: 24 | C40: =Datos!C39 -> 0 | D40: =Datos!P39/SUM(Ventas_Reales[TOTAL]) -> 0
B41: 25 | C41: =Datos!C40 -> 0 | D41: =Datos!P40/SUM(Ventas_Reales[TOTAL]) -> 0
B42: 26 | C42: =Datos!C41 -> 0 | D42: =Datos!P41/SUM(Ventas_Reales[TOTAL]) -> 0
